Workbook

Sheet Лист1
A1: ИНСТРУКЦИЯ:
A3: 1. В теме письма обязательно указать "СКУД ЗАЯВКА НА ПРОПУСК 1.1.1" (вместо 1.1.1 номер Вашего тауна)
A4: 2. Изменения и дополнения необходимо выделить жирным начертанием
A5: 3. Отправить заполненный файл в формате Excel по адресу: bp@kronburg.msk.ru
A6: 4. Если вы новый собственник и заполняете Заявку впервые - распечатайте данную заявку, подпишите и передайте Администратору ТСН Дергачевой Ольге Михайловне Контактный телефон: 8-926-821-30-56
E9: Председателю Правления ТСН ЖК «Кронбург»
E10: Луценко А.Б.
E11: Собственник ФИО:
E12: Адрес г.Москва, ул. Кронбургская,
G13: Адрес проживания собственника: | H13: ОБЯЗАТЕЛЬНО ДЛЯ ЗАПОЛНЕНИЯ
G14: Тел. | H14: ОБЯЗАТЕЛЬНО ДЛЯ ЗАПОЛНЕНИЯ
G15: e-mail | H15: ОБЯЗАТЕЛЬНО ДЛЯ ЗАПОЛНЕНИЯ
F16: Документ, подтверждающий личность
F17: Серия номер | H17: Дата Выдачи
F18: Кем выдан:
G20: Заявление
B21: на выдачу пропуска для прохода/проезда на территорию
B22: Постоянные пропуск (Выдается Собственникам, проживающим, близким родственникам)
B23: ФИО полностью лица, которому предоставляется пропуск: | G23: статус | H23: Вид доступа | I23: Телефон для Заказа пропусков | J23: второй номер у данного пользователя
A24: 1 | G24: =IF(B24<>0,"---Выбрать нужное---","") | H24: =IF(B24<>0,"---Выбрать нужное---","")
A25: =A24+1 -> 2 | G25: =IF(B25<>0,"---Выбрать нужное---","") | H25: =IF(B25<>0,"---Выбрать нужное---","")
A26: =A25+1 -> 3 | G26: =IF(B26<>0,"---Выбрать нужное---","") | H26: =IF(B26<>0,"---Выбрать нужное---","")
A27: =A26+1 -> 4 | G27: =IF(B27<>0,"---Выбрать нужное---","") | H27: =IF(B27<>0,"---Выбрать нужное---","")
A28: =A27+1 -> 5 | G28: =IF(B28<>0,"---Выбрать нужное---","") | H28: =IF(B28<>0,"---Выбрать нужное---","")
A29: =A28+1 -> 6 | G29: =IF(B29<>0,"---Выбрать нужное---","") | H29: =IF(B29<>0,"---Выбрать нужное---","")
A30: =A29+1 -> 7 | G30: =IF(B30<>0,"---Выбрать нужное---","") | H30: =IF(B30<>0,"---Выбрать нужное---","")
A31: =A30+1 -> 8 | G31: =IF(B31<>0,"---Выбрать нужное---","") | H31: =IF(B31<>0,"---Выбрать нужное---","")
A32: =A31+1 -> 9 | G32: =IF(B32<>0,"---Выбрать нужное---","") | H32: =IF(B32<>0,"---Выбрать нужное---","")
A33: =A32+1 -> 10 | G33: =IF(B33<>0,"---Выбрать нужное---","") | H33: =IF(B33<>0,"---Выбрать нужное---","")
A34: =A33+1 -> 11 | G34: =IF(B34<>0,"---Выбрать нужное---","") | H34: =IF(B34<>0,"---Выбрать нужное---","")
A35: =A34+1 -> 12 | G35: =IF(B35<>0,"---Выбрать нужное---","") | H35: =IF(B35<>0,"---Выбрать нужное---","")
A36: =A35+1 -> 13 | G36: =IF(B36<>0,"---Выбрать нужное---","") | H36: =IF(B36<>0,"---Выбрать нужное---","")
... A38: =A37+1 -> 15 | G38: =IF(B38<>0,"---Выбрать нужное---","") | H38: =IF(B38<>0,"---Выбрать нужное---","")
B40: Временный пропуск (количество дней от 2 дней до 60)
B41: Наименование организации, ФИО лица, которому предоставляется пропуск: | G41: Срок действия до: | H41: Вид доступа | I41: Телефон для Заказа пропусков (не рекомендуется)
A42: 1 | G42: =IF(B42<>0,"---Выбрать нужное---","") | H42: =IF(B42<>0,"---Выбрать нужное---","")
A43: 2 | G43: =IF(B43<>0,"---Выбрать нужное---","") | H43: =IF(B43<>0,"---Выбрать нужное---","")
A44: 3 | G44: =IF(B44<>0,"---Выбрать нужное---","") | H44: =IF(B44<>0,"---Выбрать нужное---","")
A45: 4 | G45: =IF(B45<>0,"---Выбрать нужное---","") | H45: =IF(B45<>0,"---Выбрать нужное---","")
A46: 5 | G46: =IF(B46<>0,"---Выбрать нужное---","") | H46: =IF(B46<>0,"---Выбрать нужное---","")
A47: 6 | G47: =IF(B47<>0,"---Выбрать нужное---","") | H47: =IF(B47<>0,"---Выбрать нужное---","")
A48: 7 | G48: =IF(B48<>0,"---Выбрать нужное---","") | H48: =IF(B48<>0,"---Выбрать нужное---","")
A49: 8 | G49: =IF(B49<>0,"---Выбрать нужное---","") | H49: =IF(B49<>0,"---Выбрать нужное---","")
A50: 9 | G50: =IF(B50<>0,"---Выбрать нужное---","") | H50: =IF(B50<>0,"---Выбрать нужное---","")
A51: 10 | G51: =IF(B51<>0,"---Выбрать нужное---","") | H51: =IF(B51<>0,"---Выбрать нужное---","")
C53: Данные транспортного средства:
A54: 1 | B54: Марка, модель а/м: | G54: гос.номер: | I54: Основной водитель: | J54: =IF(OR(D54<>0,H54<>0),"---Выбрать нужное---","")
A55: =A54+1 -> 2 | B55: Марка, модель а/м: | G55: гос.номер: | I55: Основной водитель: | J55: =IF(OR(D55<>0,H55<>0),"---Выбрать нужное---","")
A56: =A55+1 -> 3 | B56: Марка, модель а/м: | G56: гос.номер: | I56: Основной водитель: | J56: =IF(OR(D56<>0,H56<>0),"---Выбрать нужное---","")
A57: =A56+1 -> 4 | B57: Марка, модель а/м: | G57: гос.номер: | I57: Основной водитель: | J57: =IF(OR(D57<>0,H57<>0),"---Выбрать нужное---","")
A58: =A57+1 -> 5 | B58: Марка, модель а/м: | G58: гос.номер: | I58: Основной водитель: | J58: =IF(OR(D58<>0,H58<>0),"---Выбрать нужное---","")
A59: =A58+1 -> 6 | B59: Марка, модель а/м: | G59: гос.номер: | I59: Основной водитель: | J59: =IF(OR(D59<>0,H59<>0),"---Выбрать нужное---","")
A60: =A59+1 -> 7 | B60: Марка, модель а/м: | G60: гос.номер: | I60: Основной водитель: | J60: =IF(OR(D60<>0,H60<>0),"---Выбрать нужное---","")
A61: =A60+1 -> 8 | B61: Марка, модель а/м: | G61: гос.номер: | I61: Основной водитель: | J61: =IF(OR(D61<>0,H61<>0),"---Выбрать нужное---","")
A62: =A61+1 -> 9 | B62: Марка, модель а/м: | G62: гос.номер: | I62: Основной водитель: | J62: =IF(OR(D62<>0,H62<>0),"---Выбрать нужное---","")
A63: =A62+1 -> 10 | B63: Марка, модель а/м: | G63: гос.номер: | I63: Основной водитель: | J63: =IF(OR(D63<>0,H63<>0),"---Выбрать нужное---","")
A65: Выражаю свое согласие в соответствии с требованиями Федерального Закона №152 «О персональных данных» на передачу и обработку Правлению и его доверителям своих персональных данных: Фамилия, Имя, Отчество, Данные документа, удостоверяющего личность, Адрес регистрации физического лица, Домашний телефон, Сотовый телефон, Данные транспортного средства и уполномочиваю предоставлять полностью или частично сведения, указанные в настоящем заявлении, третьей стороне, в том числе для целей надлежащего исполнения моих требований в рамках данного заявления. Правление вправе обрабатывать мои персональные данные посредством внесения их в электронную базу данных, включения в списки (реестры) и отчетные документы, предусмотренные документами, регламентирующими представление отчетных данных (документов). Согласие предоставляется на осуществление любых действий в отношении моих персональных данных, которые необходимы для достижения целей, предусмотренных настоящим заявлением, включая без ограничения: сбор, запись, систематизацию, накопление, хранение, уточнение (обновление, изменение), извлечение, использование, передачу (распространение, предоставление, доступ), обезличивание, блокирование, удаление, уничтожение и любые другие действия (операции) с персональными данными с учетом действующего законодательства. Правление вправе в необходимом объеме раскрывать для совершения вышеуказанных действий информацию обо мне лично (включая мои персональные данные) третьим лицам, их агентам и иным уполномоченным им лицам, а также предоставлять этим лицам соответствующие документы, содержащие такую информацию с соблюдением требований законодательства и уполномоченных регуляторов в целях обеспечения конфидециальности моих персональных данных.
A67: С Регламентом выдачи электронного пропуска ознакомлен, согласен на обработку моих персональных данных | G67: / | K67: /
G68: (подпись) | I68: =NOW() -> 45694.524

Sheet Лист2
A1: ---Выбрать нужное--- | B1: ---Выбрать нужное--- | C1: ---Выбрать нужное--- | D1: ---Выбрать нужное---
A2: Собственник | B2: Только проход (только калитки) | C2: УДАЛИТЬ ПОЛЬЗОВАТЕЛЯ | D2: УДАЛИТЬ АВТОМОБИЛЬ
A3: Проживающий | B3: Проход и проезд (калитки и шлагбаумы) | C3: =NOW() + 2 -> 45696.524 | D3: ----- ВРЕМЕННЫХ ИЩИТЕ НИЖЕ -----
A4: Родственник | B4: УДАЛИТЬ ПОЛЬЗОВАТЕЛЯ | C4: =C3+1 -> 45697.524 | D4: =IF(Лист1!B24=0,"",Лист1!B24)
A5: УДАЛИТЬ ПОЛЬЗОВАТЕЛЯ | C5: =C4+1 -> 45698.524 | D5: =IF(Лист1!B25=0,"",Лист1!B25)
C6: =C5+1 -> 45699.524 | D6: =IF(Лист1!B26=0,"",Лист1!B26)
C7: =C6+1 -> 45700.524 | D7: =IF(Лист1!B27=0,"",Лист1!B27)
C8: =C7+1 -> 45701.524 | D8: =IF(Лист1!B28=0,"",Лист1!B28)
C9: =C8+1 -> 45702.524 | D9: =IF(Лист1!B29=0,"",Лист1!B29)
C10: =C9+1 -> 45703.524 | D10: =IF(Лист1!B30=0,"",Лист1!B30)
C11: =C10+1 -> 45704.524 | D11: =IF(Лист1!B31=0,"",Лист1!B31)
C12: =C11+1 -> 45705.524 | D12: =IF(Лист1!B32=0,"",Лист1!B32)
C13: =C12+1 -> 45706.524 | D13: =IF(Лист1!B33=0,"",Лист1!B33)
C14: =C13+1 -> 45707.524 | D14: =IF(Лист1!B34=0,"",Лист1!B34)
C15: =C14+1 -> 45708.524 | D15: =IF(Лист1!B35=0,"",Лист1!B35)
C16: =C15+1 -> 45709.524 | D16: =IF(Лист1!B36=0,"",Лист1!B36)
C17: =C16+1 -> 45710.524 | D17: =IF(Лист1!B37=0,"",Лист1!B37)
C18: =C17+1 -> 45711.524 | D18: =IF(Лист1!B38=0,"",Лист1!B38)
C19: =C18+1 -> 45712.524 | D19: =IF(Лист1!B42=0,"",Лист1!B42)
C20: =C19+1 -> 45713.524 | D20: =IF(Лист1!B43=0,"",Лист1!B43)
C21: =C20+1 -> 45714.524 | D21: =IF(Лист1!B44=0,"",Лист1!B44)
C22: =C21+1 -> 45715.524 | D22: =IF(Лист1!B45=0,"",Лист1!B45)
C23: =C22+1 -> 45716.524 | D23: =IF(Лист1!B46=0,"",Лист1!B46)
C24: =C23+1 -> 45717.524 | D24: =IF(Лист1!B47=0,"",Лист1!B47)
C25: =C24+1 -> 45718.524 | D25: =IF(Лист1!B48=0,"",Лист1!B48)
C26: =C25+1 -> 45719.524 | D26: =IF(Лист1!B49=0,"",Лист1!B49)
C27: =C26+1 -> 45720.524 | D27: =IF(Лист1!B50=0,"",Лист1!B50)
C28: =C27+1 -> 45721.524 | D28: =IF(Лист1!B51=0,"",Лист1!B51)
C29: =C28+1 -> 45722.524
C30: =C29+1 -> 45723.524
C31: =C30+1 -> 45724.524
C32: =C31+1 -> 45725.524
C33: =C32+1 -> 45726.524
C34: =C33+1 -> 45727.524
C35: =C34+1 -> 45728.524
C36: =C35+1 -> 45729.524
C37: =C36+1 -> 45730.524
C38: =C37+1 -> 45731.524
C39: =C38+1 -> 45732.524
C40: =C39+1 -> 45733.524
... C62: =C61+1 -> 45755.524

Sheet Лист3
